BEGIN:VCALENDAR
VERSION:2.0
PRODID:-//Bolton CDP - ECPv6.15.20//NONSGML v1.0//EN
CALSCALE:GREGORIAN
METHOD:PUBLISH
X-WR-CALNAME:Bolton CDP
X-ORIGINAL-URL:https://www.boltoncdp.org
X-WR-CALDESC:Events for Bolton CDP
REFRESH-INTERVAL;VALUE=DURATION:PT1H
X-Robots-Tag:noindex
X-PUBLISHED-TTL:PT1H
BEGIN:VTIMEZONE
TZID:UTC
BEGIN:STANDARD
TZOFFSETFROM:+0000
TZOFFSETTO:+0000
TZNAME:UTC
DTSTART:20170101T000000
END:STANDARD
END:VTIMEZONE
BEGIN:VEVENT
DTSTART;TZID=UTC:20181116T110000
DTEND;TZID=UTC:20181116T160000
DTSTAMP:20260424T135432
CREATED:20181030T184226Z
LAST-MODIFIED:20181030T201914Z
UID:1534-1542366000-1542384000@www.boltoncdp.org
SUMMARY:IoD North West Youth Leadership Passport
DESCRIPTION:IoD North West\, in partnership with Bolton CDP and Youth Charter\, is introducing the IoD North West Leadership Passport.\n\n\n\n\n\n\n\n\n\n\n\n\n\n\nWho is it for?\nThe IoD North West Leadership Passport is designed to encourage young potential leaders from Greater Manchester’s African diaspora. \nForty young people (aged 16-25) have been hand-picked by their own communities to represent their communities\, so the IoD North West Leadership Passport programme will bring together young people from across the African diaspora. It will give them development opportunities and experiences that will help grow their confidence\, give them key skills to advance their careers and\, over time\, support a thriving North West region. \nThere will be no more than 60 young people participating in Year 1\, of which a maximum of 40 will come from the African diaspora in Greater Manchester and 20 will come from Youth Charter’s programmes. \nAny IoD members who wish to attend are very welcome\, especially for networking\, but also to support the break-out sessions\, and in case they might wish to offer the young people paid work experience. \nWhat’s included?\nThe IoD North West Leadership Passport will comprise four bespoke events over the year:\n– Building your personal brand.\n– Politics is important – and why you should get involved.\n– Starting up your own business – turning your idea into a business\, social\nenterprise\, charity or project.\n– The Big Community Pitch – young people’s ideas for tackling a local problem or opportunity. \nIn addition\, as part of the Leadership Passport\, our participants will also have access to relevant IoD (and IoD partners’) events in Manchester and across the North West over the year.
URL:https://www.boltoncdp.org/event/iod-north-west-youth-leadership-passport/
LOCATION:XYZ Building\, Manchester
ATTACH;FMTTYPE=image/jpeg:https://www.boltoncdp.org/wp-content/uploads/2018/10/Enterprising-Woman-.jpg
END:VEVENT
END:VCALENDAR